BEGIN:VCALENDAR
VERSION:2.0
PRODID:-//Scenic Heights Golf Course - ECPv6.15.20//NONSGML v1.0//EN
CALSCALE:GREGORIAN
METHOD:PUBLISH
X-ORIGINAL-URL:https://www.scenicheightsgolfcourse.com
X-WR-CALDESC:Events for Scenic Heights Golf Course
REFRESH-INTERVAL;VALUE=DURATION:PT1H
X-Robots-Tag:noindex
X-PUBLISHED-TTL:PT1H
BEGIN:VTIMEZONE
TZID:America/New_York
BEGIN:DAYLIGHT
TZOFFSETFROM:-0500
TZOFFSETTO:-0400
TZNAME:EDT
DTSTART:20240310T070000
END:DAYLIGHT
BEGIN:STANDARD
TZOFFSETFROM:-0400
TZOFFSETTO:-0500
TZNAME:EST
DTSTART:20241103T060000
END:STANDARD
BEGIN:DAYLIGHT
TZOFFSETFROM:-0500
TZOFFSETTO:-0400
TZNAME:EDT
DTSTART:20250309T070000
END:DAYLIGHT
BEGIN:STANDARD
TZOFFSETFROM:-0400
TZOFFSETTO:-0500
TZNAME:EST
DTSTART:20251102T060000
END:STANDARD
BEGIN:DAYLIGHT
TZOFFSETFROM:-0500
TZOFFSETTO:-0400
TZNAME:EDT
DTSTART:20260308T070000
END:DAYLIGHT
BEGIN:STANDARD
TZOFFSETFROM:-0400
TZOFFSETTO:-0500
TZNAME:EST
DTSTART:20261101T060000
END:STANDARD
END:VTIMEZONE
BEGIN:VEVENT
DTSTART;TZID=America/New_York:20250727T083000
DTEND;TZID=America/New_York:20250823T140000
DTSTAMP:20260422T095425
CREATED:20250727T114431Z
LAST-MODIFIED:20250727T114431Z
UID:2143-1753605000-1755957600@www.scenicheightsgolfcourse.com
SUMMARY:McDowell Hockey Outing
DESCRIPTION:
URL:https://www.scenicheightsgolfcourse.com/event/mcdowell-hockey-outing/
LOCATION:Scenic Heights Golf Course\, 7830 Knoyle Road\, Wattsburg\, PA\, 16442\, United States
END:VEVENT
BEGIN:VEVENT
DTSTART;TZID=America/New_York:20250816T080000
DTEND;TZID=America/New_York:20250816T133000
DTSTAMP:20260422T095425
CREATED:20250525T064254Z
LAST-MODIFIED:20250525T064254Z
UID:2109-1755331200-1755351000@www.scenicheightsgolfcourse.com
SUMMARY:Kyle T. Rohan Memorial
DESCRIPTION:
URL:https://www.scenicheightsgolfcourse.com/event/kyle-t-rohan-memorial/
LOCATION:Scenic Heights Golf Course\, 7830 Knoyle Road\, Wattsburg\, PA\, 16442\, United States
END:VEVENT
BEGIN:VEVENT
DTSTART;TZID=America/New_York:20250816T140000
DTEND;TZID=America/New_York:20250816T190000
DTSTAMP:20260422T095425
CREATED:20250525T064404Z
LAST-MODIFIED:20250525T064404Z
UID:2111-1755352800-1755370800@www.scenicheightsgolfcourse.com
SUMMARY:Mercyhurst Prep Baseball Outing
DESCRIPTION:
URL:https://www.scenicheightsgolfcourse.com/event/mercyhurst-prep-baseball-outing/
LOCATION:Scenic Heights Golf Course\, 7830 Knoyle Road\, Wattsburg\, PA\, 16442\, United States
END:VEVENT
END:VCALENDAR